BEGIN:VCALENDAR
VERSION:2.0
PRODID:-//hacksw/handcal//NONSGML v1.0//EN
CALSCALE:GREGORIAN
BEGIN:VEVENT
DTEND:20070513T080000Z
UID:69ed1a1dbc31b
DTSTAMP:20260425T204637Z
LOCATION:9170 Ferlach
DESCRIPTION:Cross-/Berglauf durch die legendäre Tscheppaschlucht bei Ferlach/Ktn.\; 1.000 Stufen\, 1.000 Steine bis zur Krönung des ersten Tscheppaschlucht Cross Champs 2007\; Adventure-Event für Hobby- und Profilathleten\; EIN MUSS FÜR ALLE BERGLAUF-FREAKS
URL;VALUE=URI:
SUMMARY:1. SALOMON Tscheppaschlucht Cross Champ
DTSTART:20070512T230000Z
END:VEVENT
END:VCALENDAR
An internal server error occurred.