BEGIN:VCALENDAR
VERSION:2.0
PRODID:-//hacksw/handcal//NONSGML v1.0//EN
CALSCALE:GREGORIAN
BEGIN:VEVENT
DTEND:20070512T150000Z
UID:69e5e22f67054
DTSTAMP:20260420T092207Z
LOCATION:2871 Zöbern
DESCRIPTION:Gehört zur Hervis-Lauftour 2007
URL;VALUE=URI:
SUMMARY:17. Zöberner Ortslauf
DTSTART:20070511T230000Z
END:VEVENT
END:VCALENDAR
An internal server error occurred.