BEGIN:VCALENDAR
VERSION:2.0
PRODID:-//hacksw/handcal//NONSGML v1.0//EN
CALSCALE:GREGORIAN
BEGIN:VEVENT
DTEND:20070630T154000Z
UID:69e85f1f6a6e2
DTSTAMP:20260422T063943Z
LOCATION:2871 Zöbern
DESCRIPTION:Gehört zur Hervis-Lauftour 2007
URL;VALUE=URI:
SUMMARY:5. run+roll Bucklige Welt Halbmarathon
DTSTART:20070629T230000Z
END:VEVENT
END:VCALENDAR
An internal server error occurred.