BEGIN:VCALENDAR
VERSION:2.0
PRODID:-//hacksw/handcal//NONSGML v1.0//EN
CALSCALE:GREGORIAN
BEGIN:VEVENT
DTEND:20070520T090000Z
UID:69e5e225610b5
DTSTAMP:20260420T092157Z
LOCATION:2822 Erlach
DESCRIPTION:Gehört zur Hervis-Lauftour 2007
URL;VALUE=URI:
SUMMARY:4. Erlacher Sparkasse Lauf
DTSTART:20070519T230000Z
END:VEVENT
END:VCALENDAR
An internal server error occurred.