BEGIN:VCALENDAR
VERSION:2.0
PRODID:-//hacksw/handcal//NONSGML v1.0//EN
CALSCALE:GREGORIAN
BEGIN:VEVENT
DTEND:20070721T150000Z
UID:69e8b53c94ad3
DTSTAMP:20260422T124708Z
LOCATION:2870 Aspang
DESCRIPTION:Gehört zur Hervis-Lauftour 2007
URL;VALUE=URI:
SUMMARY:22. Raiffeisen Ortslauf Aspang
DTSTART:20070720T230000Z
END:VEVENT
END:VCALENDAR
An internal server error occurred.