BEGIN:VCALENDAR
VERSION:2.0
PRODID:-//hacksw/handcal//NONSGML v1.0//EN
CALSCALE:GREGORIAN
BEGIN:VEVENT
DTEND:20070901T140000Z
UID:69e9884a54198
DTSTAMP:20260423T034738Z
LOCATION:2873 Feistritz
DESCRIPTION:Gehört zur Hervis-Lauftour 2007
URL;VALUE=URI:
SUMMARY:16. Feistritzer Panoramalauf
DTSTART:20070831T230000Z
END:VEVENT
END:VCALENDAR
An internal server error occurred.