BEGIN:VCALENDAR
VERSION:2.0
PRODID:-//hacksw/handcal//NONSGML v1.0//EN
CALSCALE:GREGORIAN
BEGIN:VEVENT
DTEND:20070908T133000Z
UID:69e9953006dd7
DTSTAMP:20260423T044240Z
LOCATION:3712 Maissau
DESCRIPTION:Finale des Sparkassen Waldviertelcups 2007
URL;VALUE=URI:
SUMMARY:Maissauer Stadtlauf
DTSTART:20070907T230000Z
END:VEVENT
END:VCALENDAR
An internal server error occurred.