BEGIN:VCALENDAR
VERSION:2.0
PRODID:-//hacksw/handcal//NONSGML v1.0//EN
CALSCALE:GREGORIAN
BEGIN:VEVENT
DTEND:20070804T170000Z
UID:69ecedcb9e04e
DTSTAMP:20260425T173731Z
LOCATION:4020 Linz Hauptplatz
DESCRIPTION:Der erste Berglauf mitten in der Stadt. OÖ's größter Begrlauf führt vom Hauptplatz direkt auf den Linzer Hausberg (5km / 270Hm).
URL;VALUE=URI:
SUMMARY:6. VKB-Pöstlingberglauf Linz
DTSTART:20070803T230000Z
END:VEVENT
END:VCALENDAR
An internal server error occurred.