BEGIN:VCALENDAR
VERSION:2.0
PRODID:-//hacksw/handcal//NONSGML v1.0//EN
CALSCALE:GREGORIAN
BEGIN:VEVENT
DTEND:20070501T083000Z
UID:69e4df9fb16b1
DTSTAMP:20260419T145855Z
LOCATION:7323 Ritzing
DESCRIPTION:Start direkt am Sonnensee Ritzing

URL;VALUE=URI:
SUMMARY:10. Ritzinger Tintnfassllauf
DTSTART:20070430T230000Z
END:VEVENT
END:VCALENDAR
An internal server error occurred.