BEGIN:VCALENDAR
VERSION:2.0
PRODID:-//hacksw/handcal//NONSGML v1.0//EN
CALSCALE:GREGORIAN
BEGIN:VEVENT
DTEND:20070501T103000Z
UID:69e4f27db0c2b
DTSTAMP:20260419T161925Z
LOCATION:2301 Groß-Enzersdorf
DESCRIPTION:Der Bewerb gehört zum Wienstrom-Laufcup 2007 und richtet im Rahmen dieser Veranstaltung die UNION-Bezirksmeisterschaften der Bezirke Gänserndorf und Korneuburg statt
URL;VALUE=URI:
SUMMARY:6.  Stadtler-Lauf 2007
DTSTART:20070430T230000Z
END:VEVENT
END:VCALENDAR
An internal server error occurred.