BEGIN:VCALENDAR
VERSION:2.0
PRODID:-//hacksw/handcal//NONSGML v1.0//EN
CALSCALE:GREGORIAN
BEGIN:VEVENT
DTEND:20070616T130000Z
UID:69e741962bbaf
DTSTAMP:20260421T102126Z
LOCATION:3107 St.Pölten
DESCRIPTION:Volkslauf und Schülerlauf
Start Schülerlauf 10:00 Uhr
URL;VALUE=URI:
SUMMARY:Viehofner Seelauf
DTSTART:20070615T230000Z
END:VEVENT
END:VCALENDAR
An internal server error occurred.