BEGIN:VCALENDAR
VERSION:2.0
PRODID:-//hacksw/handcal//NONSGML v1.0//EN
CALSCALE:GREGORIAN
BEGIN:VEVENT
DTEND:20070506T090000Z
UID:69e51095169cd
DTSTAMP:20260419T182749Z
LOCATION:6020 Innsbruck
DESCRIPTION:Erster Höhepunkt im Innsbrucker Lauffrühling 2007 mit einem der größten Stadtläufe in Österreich. 
URL;VALUE=URI:
SUMMARY:Innsbrucker Sparkasse Stadtlauf
DTSTART:20070505T230000Z
END:VEVENT
END:VCALENDAR
An internal server error occurred.