BEGIN:VCALENDAR
VERSION:2.0
PRODID:-//hacksw/handcal//NONSGML v1.0//EN
CALSCALE:GREGORIAN
BEGIN:VEVENT
DTEND:20070831T230000Z
UID:69e95693bbfd7
DTSTAMP:20260423T001531Z
LOCATION:4873 Frankenburg a. H.
DESCRIPTION:mit Wertung für Nordic Walker M/W\, in je 2 Klassen und Mountainbike Trophy in 2 Klassen
URL;VALUE=URI:
SUMMARY:4. Frankenburger Würfelspiellauf
DTSTART:20070831T230000Z
END:VEVENT
END:VCALENDAR
An internal server error occurred.