BEGIN:VCALENDAR
VERSION:2.0
PRODID:-//hacksw/handcal//NONSGML v1.0//EN
CALSCALE:GREGORIAN
BEGIN:VEVENT
DTEND:20070106T100000Z
UID:69e5bb195bbfb
DTSTAMP:20260420T063521Z
LOCATION:1110 Wien
DESCRIPTION:Der Reinerlös des 6. Simmeringer Haide Dreikönigslaufes wird traditionsgemäß wieder karitativen Projekten zukommen.
URL;VALUE=URI:
SUMMARY:6. Simmeringer Haide Dreikönigslauf
DTSTART:20070105T230000Z
END:VEVENT
END:VCALENDAR
An internal server error occurred.