BEGIN:VCALENDAR
VERSION:2.0
PRODID:-//hacksw/handcal//NONSGML v1.0//EN
CALSCALE:GREGORIAN
BEGIN:VEVENT
DTEND:20070721T150000Z
UID:69e859db93c00
DTSTAMP:20260422T061715Z
LOCATION:6632 Ehrwald
DESCRIPTION:
URL;VALUE=URI:
SUMMARY:ZugspitzArenaLauf
DTSTART:20070720T230000Z
END:VEVENT
END:VCALENDAR
An internal server error occurred.