BEGIN:VCALENDAR
VERSION:2.0
PRODID:-//hacksw/handcal//NONSGML v1.0//EN
CALSCALE:GREGORIAN
BEGIN:VEVENT
DTEND:20070819T073500Z
UID:69e92cc41b260
DTSTAMP:20260422T211708Z
LOCATION:9020 Klagenfurt
DESCRIPTION:Nordic Walking Halbmarathon
Vorsorge-Walk 6km
URL;VALUE=URI:
SUMMARY:Kärnten Läuft 07 Halbmarathon 
DTSTART:20070818T230000Z
END:VEVENT
END:VCALENDAR
An internal server error occurred.