BEGIN:VCALENDAR
VERSION:2.0
PRODID:-//hacksw/handcal//NONSGML v1.0//EN
CALSCALE:GREGORIAN
BEGIN:VEVENT
DTEND:20070817T163000Z
UID:69e9090d860be
DTSTAMP:20260422T184445Z
LOCATION:9020 Klagenfurt
DESCRIPTION:
URL;VALUE=URI:
SUMMARY:Kärnten Läuft 07 Frauenlauf
DTSTART:20070816T230000Z
END:VEVENT
END:VCALENDAR
An internal server error occurred.