BEGIN:VCALENDAR
VERSION:2.0
PRODID:-//hacksw/handcal//NONSGML v1.0//EN
CALSCALE:GREGORIAN
BEGIN:VEVENT
DTEND:20070902T090000Z
UID:69e910786a2a6
DTSTAMP:20260422T191624Z
LOCATION:6215 Achensee
DESCRIPTION:Der Fun & Fitnesslauf findet wieder zeitgleich mit dem Hauptlauf statt!
Es ist keine Voranmeldung möglich und notwendig!
Teilnehmer können sich direkt vor Ort registrieren. 


URL;VALUE=URI:
SUMMARY:8. Intern. Achenseelauf
DTSTART:20070901T230000Z
END:VEVENT
END:VCALENDAR
An internal server error occurred.