BEGIN:VCALENDAR
VERSION:2.0
PRODID:-//hacksw/handcal//NONSGML v1.0//EN
CALSCALE:GREGORIAN
BEGIN:VEVENT
DTEND:20070909T080000Z
UID:69ed79273c502
DTSTAMP:20260426T033207Z
LOCATION:97517 Rannungen
DESCRIPTION:
URL;VALUE=URI:
SUMMARY:7. Wald- und Naturlauf Rund um Rannungen
DTSTART:20070908T230000Z
END:VEVENT
END:VCALENDAR
An internal server error occurred.