BEGIN:VCALENDAR
VERSION:2.0
PRODID:-//hacksw/handcal//NONSGML v1.0//EN
CALSCALE:GREGORIAN
BEGIN:VEVENT
DTEND:20070729T080000Z
UID:69e859dc52130
DTSTAMP:20260422T061716Z
LOCATION:6993 Mittelberg\, Bergdorf Baad
DESCRIPTION:Berglauf rund um den höchsten Berg des Kleinwalsertales\, um den Widderstein
URL;VALUE=URI:
SUMMARY:7. Intern. iQ-Widdersteinlauf
DTSTART:20070728T230000Z
END:VEVENT
END:VCALENDAR
An internal server error occurred.