BEGIN:VCALENDAR
VERSION:2.0
PRODID:-//hacksw/handcal//NONSGML v1.0//EN
CALSCALE:GREGORIAN
BEGIN:VEVENT
DTEND:20070804T083000Z
UID:69e9add792417
DTSTAMP:20260423T062751Z
LOCATION:3204 Kirchberg/Pielach
DESCRIPTION:10 km Nordic Walking von Hofstetten nach Ober-Grafendorf
URL;VALUE=URI:
SUMMARY:5. Pielachtaler Erlebnislauf
DTSTART:20070803T230000Z
END:VEVENT
END:VCALENDAR
An internal server error occurred.