BEGIN:VCALENDAR
VERSION:2.0
PRODID:-//hacksw/handcal//NONSGML v1.0//EN
CALSCALE:GREGORIAN
BEGIN:VEVENT
DTEND:20070613T160000Z
UID:69e859dff17e4
DTSTAMP:20260422T061719Z
LOCATION:1210 Wien
DESCRIPTION:20m Sprint\, Kugelstossen\, Sperrwurf\, Stand-Weitsprung\, Hürdenlauf
URL;VALUE=URI:
SUMMARY:Leopoldauer Fünf-Kampf für Kinder
DTSTART:20070612T230000Z
END:VEVENT
END:VCALENDAR
An internal server error occurred.