BEGIN:VCALENDAR
VERSION:2.0
PRODID:-//hacksw/handcal//NONSGML v1.0//EN
CALSCALE:GREGORIAN
BEGIN:VEVENT
DTEND:20070911T180000Z
UID:69e9951310a8e
DTSTAMP:20260423T044211Z
LOCATION:1020 Wien
DESCRIPTION:
URL;VALUE=URI:
SUMMARY:New York Memorial Race
DTSTART:20070910T230000Z
END:VEVENT
END:VCALENDAR
An internal server error occurred.