BEGIN:VCALENDAR
VERSION:2.0
PRODID:-//hacksw/handcal//NONSGML v1.0//EN
CALSCALE:GREGORIAN
BEGIN:VEVENT
DTEND:20070422T080000Z
UID:69e5e223078c1
DTSTAMP:20260420T092155Z
LOCATION:8280 Fürstenfeld
DESCRIPTION:13\,7 km mit 310m Steigung und 285 m Gefälle. Die abwechslungsreiche und sportlich sehr anspruchsvolle Laufstrecke  führt entlang des Weitwanderweges 907. Die Strecke wird zusätzlich eindeutig markiert -
60%\, Waldwege\, 40%Asphaltstraße
START: Fürstenfeld\, Dreikreuzberg
ZIEL: Riegersburg Buschenschank Bernhart
Nenngebühr 7€ für Jugendliche\, Nenngebühr 15€ für Erwachsene
Anmeldung durch einzahlen des Nenngelds
 auf Konto Turnverein Fürstenfeld
Südoststeirische Sparkasse BLZ 20809 Kt.Nr.: 2600-006700

Anmeldeschluss 20.4.07 Nachnenngebühr 5€
Anmelde- Fax Nr. 03386 8217
oder e-mail: riegersburglauf@tvff.at
URL;VALUE=URI:
SUMMARY:Riegersburglauf 2007
DTSTART:20070421T230000Z
END:VEVENT
END:VCALENDAR
An internal server error occurred.