BEGIN:VCALENDAR
VERSION:2.0
PRODID:-//hacksw/handcal//NONSGML v1.0//EN
CALSCALE:GREGORIAN
BEGIN:VEVENT
DTEND:20070901T150000Z
UID:69e972c231f75
DTSTAMP:20260423T021546Z
LOCATION:1180 Wien
DESCRIPTION:
URL;VALUE=URI:
SUMMARY:Berglauf am Nasenweg
DTSTART:20070831T230000Z
END:VEVENT
END:VCALENDAR
An internal server error occurred.