BEGIN:VCALENDAR
VERSION:2.0
PRODID:-//hacksw/handcal//NONSGML v1.0//EN
CALSCALE:GREGORIAN
BEGIN:VEVENT
DTEND:20070815T090000Z
UID:69e972b4bfc86
DTSTAMP:20260423T021532Z
LOCATION:3180 Lilienfeld
DESCRIPTION:Im Rahmen des Hinteralm BRUTAL Laufes
URL;VALUE=URI:
SUMMARY:1. Offene Öster. Meisterschaft im EXTREM Berglauf
DTSTART:20070814T230000Z
END:VEVENT
END:VCALENDAR
An internal server error occurred.