BEGIN:VCALENDAR
VERSION:2.0
PRODID:-//hacksw/handcal//NONSGML v1.0//EN
CALSCALE:GREGORIAN
BEGIN:VEVENT
DTEND:20070805T090000Z
UID:69ecedc4ad995
DTSTAMP:20260425T173724Z
LOCATION:3520 Aggsbach
DESCRIPTION:
URL;VALUE=URI:
SUMMARY:Lauf auf die Ruine Aggstein
DTSTART:20070804T230000Z
END:VEVENT
END:VCALENDAR
An internal server error occurred.