BEGIN:VCALENDAR
VERSION:2.0
PRODID:-//hacksw/handcal//NONSGML v1.0//EN
CALSCALE:GREGORIAN
BEGIN:VEVENT
DTEND:20070729T090000Z
UID:69e86357337b8
DTSTAMP:20260422T065743Z
LOCATION:3180 Lilienfeld
DESCRIPTION:
URL;VALUE=URI:
SUMMARY:Muckenkogl Berglauf
DTSTART:20070728T230000Z
END:VEVENT
END:VCALENDAR
An internal server error occurred.