BEGIN:VCALENDAR
VERSION:2.0
PRODID:-//hacksw/handcal//NONSGML v1.0//EN
CALSCALE:GREGORIAN
BEGIN:VEVENT
DTEND:20070714T170000Z
UID:69e9bc208e506
DTSTAMP:20260423T072848Z
LOCATION:3500 Krems
DESCRIPTION:
URL;VALUE=URI:
SUMMARY:Berglauf auf die Schwarzalm in Krems
DTSTART:20070713T230000Z
END:VEVENT
END:VCALENDAR
An internal server error occurred.