BEGIN:VCALENDAR
VERSION:2.0
PRODID:-//hacksw/handcal//NONSGML v1.0//EN
CALSCALE:GREGORIAN
BEGIN:VEVENT
DTEND:20070702T090000Z
UID:69e7e3e053edf
DTSTAMP:20260421T215352Z
LOCATION:3100 St. Pölten
DESCRIPTION:
URL;VALUE=URI:
SUMMARY:2. St. Pöltner Dogging
DTSTART:20070701T230000Z
END:VEVENT
END:VCALENDAR
An internal server error occurred.