BEGIN:VCALENDAR
VERSION:2.0
PRODID:-//hacksw/handcal//NONSGML v1.0//EN
CALSCALE:GREGORIAN
BEGIN:VEVENT
DTEND:20070617T070000Z
UID:69e725a84d5cb
DTSTAMP:20260421T082216Z
LOCATION:3133 Göttweig
DESCRIPTION:Vom Stift Göttweig bis anch Maria Langegg entlang des Höhenkamm in der Wachau
URL;VALUE=URI:
SUMMARY:Halbmarathon aaam Jakobsweg
DTSTART:20070616T230000Z
END:VEVENT
END:VCALENDAR
An internal server error occurred.