BEGIN:VCALENDAR
VERSION:2.0
PRODID:-//hacksw/handcal//NONSGML v1.0//EN
CALSCALE:GREGORIAN
BEGIN:VEVENT
DTEND:20070609T170000Z
UID:69e6bb6504aaa
DTSTAMP:20260421T004853Z
LOCATION:1220 Wien
DESCRIPTION:
URL;VALUE=URI:
SUMMARY:Lobauer Vatertagslauf
DTSTART:20070608T230000Z
END:VEVENT
END:VCALENDAR
An internal server error occurred.