BEGIN:VCALENDAR
VERSION:2.0
PRODID:-//hacksw/handcal//NONSGML v1.0//EN
CALSCALE:GREGORIAN
BEGIN:VEVENT
DTEND:20070311T090000Z
UID:69e6709e46465
DTSTAMP:20260420T192950Z
LOCATION:3100 St. Pölten
DESCRIPTION:Nach dem Lauf gibt wie immer ein
"all you can eat  buffet"
bei der Siegerehrung !
URL;VALUE=URI:
SUMMARY:Halbmarathon St. Pölten
DTSTART:20070310T230000Z
END:VEVENT
END:VCALENDAR
An internal server error occurred.