BEGIN:VCALENDAR
VERSION:2.0
PRODID:-//hacksw/handcal//NONSGML v1.0//EN
CALSCALE:GREGORIAN
BEGIN:VEVENT
DTEND:20070224T140000Z
UID:69e4f27b2b5ac
DTSTAMP:20260419T161923Z
LOCATION:1110 Wien
DESCRIPTION:3ter Lauf  des Wiener Wintercrosscups
URL;VALUE=URI:
SUMMARY:Crosslauf im Böhmischen Prater
DTSTART:20070223T230000Z
END:VEVENT
END:VCALENDAR
An internal server error occurred.