BEGIN:VCALENDAR
VERSION:2.0
PRODID:-//hacksw/handcal//NONSGML v1.0//EN
CALSCALE:GREGORIAN
BEGIN:VEVENT
DTEND:20070607T090000Z
UID:69e6fdf487c79
DTSTAMP:20260421T053252Z
LOCATION:3340 Laaben
DESCRIPTION:1. Lauf des NÖ Berglaufcup
URL;VALUE=URI:
SUMMARY:Schöpfl Berglauf
DTSTART:20070606T230000Z
END:VEVENT
END:VCALENDAR
An internal server error occurred.