BEGIN:VCALENDAR
VERSION:2.0
PRODID:-//hacksw/handcal//NONSGML v1.0//EN
CALSCALE:GREGORIAN
BEGIN:VEVENT
DTEND:20070520T090000Z
UID:69e59f93963ef
DTSTAMP:20260420T043755Z
LOCATION:1130 Wien Auhof
DESCRIPTION:
URL;VALUE=URI:
SUMMARY:Lauf rund um den Lainzer Tiergarten
DTSTART:20070519T230000Z
END:VEVENT
END:VCALENDAR
An internal server error occurred.