BEGIN:VCALENDAR
VERSION:2.0
PRODID:-//hacksw/handcal//NONSGML v1.0//EN
CALSCALE:GREGORIAN
BEGIN:VEVENT
DTEND:20070512T130000Z
UID:69e5e2213349b
DTSTAMP:20260420T092153Z
LOCATION:3550 Spitz an der Donau
DESCRIPTION:gelaufen wird am Wanderweg !
URL;VALUE=URI:
SUMMARY:Jauerling Berglauf
DTSTART:20070511T230000Z
END:VEVENT
END:VCALENDAR
An internal server error occurred.