BEGIN:VCALENDAR
VERSION:2.0
PRODID:-//hacksw/handcal//NONSGML v1.0//EN
CALSCALE:GREGORIAN
BEGIN:VEVENT
DTEND:20070818T170000Z
UID:69e9569917988
DTSTAMP:20260423T001537Z
LOCATION:3500 St. Peter an der Au - Waidhofen/Ybbs
DESCRIPTION:Der Lauf zur Landesausstellung 2007 Feuer u. Erde. Der Lauf verbindet beide Ausstellungsorte: In St. Peter an der Au wird gestartet - das Ziel befindet sich in Waidhofen/Ybbs.
URL;VALUE=URI:
SUMMARY:1. Waidhofner Feuerlauf
DTSTART:20070817T230000Z
END:VEVENT
END:VCALENDAR
An internal server error occurred.