BEGIN:VCALENDAR
VERSION:2.0
PRODID:-//hacksw/handcal//NONSGML v1.0//EN
CALSCALE:GREGORIAN
BEGIN:VEVENT
DTEND:20070908T130000Z
UID:69e93d404a8ad
DTSTAMP:20260422T222728Z
LOCATION:5201 Seekirchen
DESCRIPTION:Kinderläufe ab 14:00 Uhr
Hauptlauf: 15:30 Uhr
URL;VALUE=URI:
SUMMARY:6. KIKA Rupertilauf 2007
DTSTART:20070907T230000Z
END:VEVENT
END:VCALENDAR
An internal server error occurred.