BEGIN:VCALENDAR
VERSION:2.0
PRODID:-//hacksw/handcal//NONSGML v1.0//EN
CALSCALE:GREGORIAN
BEGIN:VEVENT
DTEND:20070909T090000Z
UID:69e995434f0fa
DTSTAMP:20260423T044259Z
LOCATION:5201 Seekirchen
DESCRIPTION:Nicht der schnellste\, aber der schönste HM 
URL;VALUE=URI:
SUMMARY:Int. Raiffeisen Halbmarathon
DTSTART:20070908T230000Z
END:VEVENT
END:VCALENDAR
An internal server error occurred.