BEGIN:VCALENDAR
VERSION:2.0
PRODID:-//hacksw/handcal//NONSGML v1.0//EN
CALSCALE:GREGORIAN
BEGIN:VEVENT
DTEND:20070630T120000Z
UID:69e7d9944299a
DTSTAMP:20260421T210956Z
LOCATION:3213 Frankenfels
DESCRIPTION:Startzeit:Noridc Walking 13:00h VAG-Grassermühle 6100m/350Hm Hauptlauf:14:00 VAG-Grassermühle 6100m/350Hm 
Startzeit:Kinder-Schüler 15:15h Eibeckalm 450m/900m
URL;VALUE=URI:
SUMMARY:Frankenfelser Berglauf
DTSTART:20070629T230000Z
END:VEVENT
END:VCALENDAR
An internal server error occurred.