BEGIN:VCALENDAR
VERSION:2.0
PRODID:-//hacksw/handcal//NONSGML v1.0//EN
CALSCALE:GREGORIAN
BEGIN:VEVENT
DTEND:20070714T170000Z
UID:69e81229a6f10
DTSTAMP:20260422T011121Z
LOCATION:3143 Pyhra
DESCRIPTION:
URL;VALUE=URI:
SUMMARY:4. Sommerabendlauf
DTSTART:20070713T230000Z
END:VEVENT
END:VCALENDAR
An internal server error occurred.