BEGIN:VCALENDAR
VERSION:2.0
PRODID:-//hacksw/handcal//NONSGML v1.0//EN
CALSCALE:GREGORIAN
BEGIN:VEVENT
DTEND:20070624T090000Z
UID:69e93d34a0f29
DTSTAMP:20260422T222716Z
LOCATION:3701 Ruppersthal
DESCRIPTION:Vorbei an Weingärten und Feldern\,
aber auch mitten durch das Herz des malerischen Weinorts - 
das Laufereignis zum Sommerbeginn!
URL;VALUE=URI:
SUMMARY:Ruppersthaler Weintraubenlauf
DTSTART:20070623T230000Z
END:VEVENT
END:VCALENDAR
An internal server error occurred.