BEGIN:VCALENDAR
VERSION:2.0
PRODID:-//hacksw/handcal//NONSGML v1.0//EN
CALSCALE:GREGORIAN
BEGIN:VEVENT
DTEND:20070722T090000Z
UID:69e9adc4b7d8f
DTSTAMP:20260423T062732Z
LOCATION:3151 Ochsenburg / St. Georgen a. Steinfeld
DESCRIPTION:Berglauf Schloss Ochsenburg zur Rudolfshöhe
URL;VALUE=URI:
SUMMARY:Berglauf Ochsenburg (Schloss)
DTSTART:20070721T230000Z
END:VEVENT
END:VCALENDAR
An internal server error occurred.