BEGIN:VCALENDAR
VERSION:2.0
PRODID:-//hacksw/handcal//NONSGML v1.0//EN
CALSCALE:GREGORIAN
BEGIN:VEVENT
DTEND:20070616T080000Z
UID:69e9adc532401
DTSTAMP:20260423T062733Z
LOCATION:0 Fürstentum Liechtenstein
DESCRIPTION:
URL;VALUE=URI:
SUMMARY:8. LGT Alpin Marathon Liechtenstein
DTSTART:20070615T230000Z
END:VEVENT
END:VCALENDAR
An internal server error occurred.