BEGIN:VCALENDAR
VERSION:2.0
PRODID:-//hacksw/handcal//NONSGML v1.0//EN
CALSCALE:GREGORIAN
BEGIN:VEVENT
DTEND:20070602T160000Z
UID:69e6c9eca6e92
DTSTAMP:20260421T015052Z
LOCATION:4623 Gunskirchen
DESCRIPTION:Fitlauf + Nordic Walking: 3 Km
Kinder und Schülerläufe: 0\,2/0\,5/1\,5 Km
URL;VALUE=URI:
SUMMARY:Gunskirchner Marktlauf
DTSTART:20070601T230000Z
END:VEVENT
END:VCALENDAR
An internal server error occurred.