BEGIN:VCALENDAR
VERSION:2.0
PRODID:-//hacksw/handcal//NONSGML v1.0//EN
CALSCALE:GREGORIAN
BEGIN:VEVENT
DTEND:20070225T090000Z
UID:69e670a58ddb2
DTSTAMP:20260420T192957Z
LOCATION:3100 St. Pölten
DESCRIPTION:
URL;VALUE=URI:
SUMMARY:Sparkasse 4-Städte Cross-Cup St. Pölten
DTSTART:20070224T230000Z
END:VEVENT
END:VCALENDAR
An internal server error occurred.