BEGIN:VCALENDAR
VERSION:2.0
PRODID:-//hacksw/handcal//NONSGML v1.0//EN
CALSCALE:GREGORIAN
BEGIN:VEVENT
DTEND:20070501T083000Z
UID:69e5e23656306
DTSTAMP:20260420T092214Z
LOCATION:8283 Bad Blumau
DESCRIPTION:
URL;VALUE=URI:
SUMMARY:7. Lauffestival Bad Blumau
DTSTART:20070430T230000Z
END:VEVENT
END:VCALENDAR
An internal server error occurred.