BEGIN:VCALENDAR
VERSION:2.0
PRODID:-//hacksw/handcal//NONSGML v1.0//EN
CALSCALE:GREGORIAN
BEGIN:VEVENT
DTEND:20070705T173000Z
UID:69e7e3e13e44f
DTSTAMP:20260421T215353Z
LOCATION:9020 Klagenfurt
DESCRIPTION:Damen-\,Herren- und Mixteam\,
Einzelbewerb
URL;VALUE=URI:
SUMMARY:Company Triathlon
DTSTART:20070704T230000Z
END:VEVENT
END:VCALENDAR
An internal server error occurred.