BEGIN:VCALENDAR
VERSION:2.0
PRODID:-//hacksw/handcal//NONSGML v1.0//EN
CALSCALE:GREGORIAN
BEGIN:VEVENT
DTEND:20070624T130000Z
UID:69e7a357083c5
DTSTAMP:20260421T171831Z
LOCATION:9020 Klagenfurt
DESCRIPTION:Schwimmen: 1\,5km
Radfahren: 40km
Laufen: 10km 
URL;VALUE=URI:
SUMMARY:Klagenfurt Triathlon
DTSTART:20070623T230000Z
END:VEVENT
END:VCALENDAR
An internal server error occurred.